BEGIN:VCALENDAR
VERSION:2.0
PRODID:-//Orange Villa Bible Church - ECPv6.15.17.1//NONSGML v1.0//EN
CALSCALE:GREGORIAN
METHOD:PUBLISH
X-WR-CALNAME:Orange Villa Bible Church
X-ORIGINAL-URL:https://orangevilla.org
X-WR-CALDESC:Events for Orange Villa Bible Church
REFRESH-INTERVAL;VALUE=DURATION:PT1H
X-Robots-Tag:noindex
X-PUBLISHED-TTL:PT1H
BEGIN:VTIMEZONE
TZID:UTC
BEGIN:STANDARD
TZOFFSETFROM:+0000
TZOFFSETTO:+0000
TZNAME:UTC
DTSTART:20170101T000000
END:STANDARD
END:VTIMEZONE
BEGIN:VEVENT
DTSTART;TZID=UTC:20181213T190000
DTEND;TZID=UTC:20181213T203000
DTSTAMP:20260421T113404
CREATED:20180110T214733Z
LAST-MODIFIED:20180110T221148Z
UID:8169-1544727600-1544733000@orangevilla.org
SUMMARY:Small Groups
DESCRIPTION:Each Thursday we gather into “small groups” for a time of bible study and fellowship. If you are interested in joining a life group\, please contact the church office at (714) 637-3250. \nMen’s Group: Meet in Pastors Office \nWomen’s Group: Meet in Room 202 \nSpanish-speaking: Meet in Room 208 \nYoung Marrieds: Meet at members homes (rotating)
URL:https://orangevilla.org/event/small-groups-2-2018-12-13/
CATEGORIES:Men's Ministry,Women's Ministry,Young Adult Ministry,Small Groups
ORGANIZER;CN="Rob Curington":MAILTO:rob@orangevilla.org
END:VEVENT
BEGIN:VEVENT
DTSTART;TZID=UTC:20181206T190000
DTEND;TZID=UTC:20181206T203000
DTSTAMP:20260421T113404
CREATED:20180110T214733Z
LAST-MODIFIED:20180110T221147Z
UID:8168-1544122800-1544128200@orangevilla.org
SUMMARY:Small Groups
DESCRIPTION:Each Thursday we gather into “small groups” for a time of bible study and fellowship. If you are interested in joining a life group\, please contact the church office at (714) 637-3250. \nMen’s Group: Meet in Pastors Office \nWomen’s Group: Meet in Room 202 \nSpanish-speaking: Meet in Room 208 \nYoung Marrieds: Meet at members homes (rotating)
URL:https://orangevilla.org/event/small-groups-2-2018-12-06/
CATEGORIES:Men's Ministry,Women's Ministry,Young Adult Ministry,Small Groups
ORGANIZER;CN="Rob Curington":MAILTO:rob@orangevilla.org
END:VEVENT
BEGIN:VEVENT
DTSTART;TZID=UTC:20181129T190000
DTEND;TZID=UTC:20181129T203000
DTSTAMP:20260421T113405
CREATED:20180110T214733Z
LAST-MODIFIED:20180110T221147Z
UID:8167-1543518000-1543523400@orangevilla.org
SUMMARY:Small Groups
DESCRIPTION:Each Thursday we gather into “small groups” for a time of bible study and fellowship. If you are interested in joining a life group\, please contact the church office at (714) 637-3250. \nMen’s Group: Meet in Pastors Office \nWomen’s Group: Meet in Room 202 \nSpanish-speaking: Meet in Room 208 \nYoung Marrieds: Meet at members homes (rotating)
URL:https://orangevilla.org/event/small-groups-2-2018-11-29/
CATEGORIES:Men's Ministry,Women's Ministry,Young Adult Ministry,Small Groups
ORGANIZER;CN="Rob Curington":MAILTO:rob@orangevilla.org
END:VEVENT
BEGIN:VEVENT
DTSTART;TZID=UTC:20181122T190000
DTEND;TZID=UTC:20181122T203000
DTSTAMP:20260421T113405
CREATED:20180110T214733Z
LAST-MODIFIED:20180110T215240Z
UID:8165-1542913200-1542918600@orangevilla.org
SUMMARY:Small Groups
DESCRIPTION:Each Thursday we gather into “small groups” for a time of bible study and fellowship. If you are interested in joining a life group\, please contact the church office at (714) 637-3250. \nMen’s Group: Meet in Pastors Office \nWomen’s Group: Meet in Room 202 \nSpanish-speaking: Meet in Room 208 \nYoung Marrieds: Meet at members homes (rotating)
URL:https://orangevilla.org/event/small-groups-2-2018-11-22/
CATEGORIES:Men's Ministry,Women's Ministry,Young Adult Ministry,Small Groups
ORGANIZER;CN="Rob Curington":MAILTO:rob@orangevilla.org
END:VEVENT
BEGIN:VEVENT
DTSTART;TZID=UTC:20181115T190000
DTEND;TZID=UTC:20181115T203000
DTSTAMP:20260421T113405
CREATED:20180110T214733Z
LAST-MODIFIED:20180110T215240Z
UID:8164-1542308400-1542313800@orangevilla.org
SUMMARY:Small Groups
DESCRIPTION:Each Thursday we gather into “small groups” for a time of bible study and fellowship. If you are interested in joining a life group\, please contact the church office at (714) 637-3250. \nMen’s Group: Meet in Pastors Office \nWomen’s Group: Meet in Room 202 \nSpanish-speaking: Meet in Room 208 \nYoung Marrieds: Meet at members homes (rotating)
URL:https://orangevilla.org/event/small-groups-2-2018-11-15/
CATEGORIES:Men's Ministry,Women's Ministry,Young Adult Ministry,Small Groups
ORGANIZER;CN="Rob Curington":MAILTO:rob@orangevilla.org
END:VEVENT
BEGIN:VEVENT
DTSTART;TZID=UTC:20181108T190000
DTEND;TZID=UTC:20181108T203000
DTSTAMP:20260421T113405
CREATED:20180110T214733Z
LAST-MODIFIED:20180110T215240Z
UID:8163-1541703600-1541709000@orangevilla.org
SUMMARY:Small Groups
DESCRIPTION:Each Thursday we gather into “small groups” for a time of bible study and fellowship. If you are interested in joining a life group\, please contact the church office at (714) 637-3250. \nMen’s Group: Meet in Pastors Office \nWomen’s Group: Meet in Room 202 \nSpanish-speaking: Meet in Room 208 \nYoung Marrieds: Meet at members homes (rotating)
URL:https://orangevilla.org/event/small-groups-2-2018-11-08/
CATEGORIES:Men's Ministry,Women's Ministry,Young Adult Ministry,Small Groups
ORGANIZER;CN="Rob Curington":MAILTO:rob@orangevilla.org
END:VEVENT
BEGIN:VEVENT
DTSTART;TZID=UTC:20181101T190000
DTEND;TZID=UTC:20181101T203000
DTSTAMP:20260421T113405
CREATED:20180110T214733Z
LAST-MODIFIED:20180110T215239Z
UID:8162-1541098800-1541104200@orangevilla.org
SUMMARY:Small Groups
DESCRIPTION:Each Thursday we gather into “small groups” for a time of bible study and fellowship. If you are interested in joining a life group\, please contact the church office at (714) 637-3250. \nMen’s Group: Meet in Pastors Office \nWomen’s Group: Meet in Room 202 \nSpanish-speaking: Meet in Room 208 \nYoung Marrieds: Meet at members homes (rotating)
URL:https://orangevilla.org/event/small-groups-2-2018-11-01/
CATEGORIES:Men's Ministry,Women's Ministry,Young Adult Ministry,Small Groups
ORGANIZER;CN="Rob Curington":MAILTO:rob@orangevilla.org
END:VEVENT
BEGIN:VEVENT
DTSTART;TZID=UTC:20181025T190000
DTEND;TZID=UTC:20181025T203000
DTSTAMP:20260421T113405
CREATED:20180110T214733Z
LAST-MODIFIED:20180110T215239Z
UID:8161-1540494000-1540499400@orangevilla.org
SUMMARY:Small Groups
DESCRIPTION:Each Thursday we gather into “small groups” for a time of bible study and fellowship. If you are interested in joining a life group\, please contact the church office at (714) 637-3250. \nMen’s Group: Meet in Pastors Office \nWomen’s Group: Meet in Room 202 \nSpanish-speaking: Meet in Room 208 \nYoung Marrieds: Meet at members homes (rotating)
URL:https://orangevilla.org/event/small-groups-2-2018-10-25/
CATEGORIES:Men's Ministry,Women's Ministry,Young Adult Ministry,Small Groups
ORGANIZER;CN="Rob Curington":MAILTO:rob@orangevilla.org
END:VEVENT
BEGIN:VEVENT
DTSTART;TZID=UTC:20181018T190000
DTEND;TZID=UTC:20181018T203000
DTSTAMP:20260421T113405
CREATED:20180110T214733Z
LAST-MODIFIED:20180110T215239Z
UID:8160-1539889200-1539894600@orangevilla.org
SUMMARY:Small Groups
DESCRIPTION:Each Thursday we gather into “small groups” for a time of bible study and fellowship. If you are interested in joining a life group\, please contact the church office at (714) 637-3250. \nMen’s Group: Meet in Pastors Office \nWomen’s Group: Meet in Room 202 \nSpanish-speaking: Meet in Room 208 \nYoung Marrieds: Meet at members homes (rotating)
URL:https://orangevilla.org/event/small-groups-2-2018-10-18/
CATEGORIES:Men's Ministry,Women's Ministry,Young Adult Ministry,Small Groups
ORGANIZER;CN="Rob Curington":MAILTO:rob@orangevilla.org
END:VEVENT
BEGIN:VEVENT
DTSTART;TZID=UTC:20181011T190000
DTEND;TZID=UTC:20181011T203000
DTSTAMP:20260421T113405
CREATED:20180110T214733Z
LAST-MODIFIED:20180110T215239Z
UID:8159-1539284400-1539289800@orangevilla.org
SUMMARY:Small Groups
DESCRIPTION:Each Thursday we gather into “small groups” for a time of bible study and fellowship. If you are interested in joining a life group\, please contact the church office at (714) 637-3250. \nMen’s Group: Meet in Pastors Office \nWomen’s Group: Meet in Room 202 \nSpanish-speaking: Meet in Room 208 \nYoung Marrieds: Meet at members homes (rotating)
URL:https://orangevilla.org/event/small-groups-2-2018-10-11/
CATEGORIES:Men's Ministry,Women's Ministry,Young Adult Ministry,Small Groups
ORGANIZER;CN="Rob Curington":MAILTO:rob@orangevilla.org
END:VEVENT
BEGIN:VEVENT
DTSTART;TZID=UTC:20181004T190000
DTEND;TZID=UTC:20181004T203000
DTSTAMP:20260421T113405
CREATED:20180110T214733Z
LAST-MODIFIED:20180110T215238Z
UID:8158-1538679600-1538685000@orangevilla.org
SUMMARY:Small Groups
DESCRIPTION:Each Thursday we gather into “small groups” for a time of bible study and fellowship. If you are interested in joining a life group\, please contact the church office at (714) 637-3250. \nMen’s Group: Meet in Pastors Office \nWomen’s Group: Meet in Room 202 \nSpanish-speaking: Meet in Room 208 \nYoung Marrieds: Meet at members homes (rotating)
URL:https://orangevilla.org/event/small-groups-2-2018-10-04/
CATEGORIES:Men's Ministry,Women's Ministry,Young Adult Ministry,Small Groups
ORGANIZER;CN="Rob Curington":MAILTO:rob@orangevilla.org
END:VEVENT
BEGIN:VEVENT
DTSTART;TZID=UTC:20180927T190000
DTEND;TZID=UTC:20180927T203000
DTSTAMP:20260421T113405
CREATED:20180110T214733Z
LAST-MODIFIED:20180110T215238Z
UID:8157-1538074800-1538080200@orangevilla.org
SUMMARY:Small Groups
DESCRIPTION:Each Thursday we gather into “small groups” for a time of bible study and fellowship. If you are interested in joining a life group\, please contact the church office at (714) 637-3250. \nMen’s Group: Meet in Pastors Office \nWomen’s Group: Meet in Room 202 \nSpanish-speaking: Meet in Room 208 \nYoung Marrieds: Meet at members homes (rotating)
URL:https://orangevilla.org/event/small-groups-2-2018-09-27/
CATEGORIES:Men's Ministry,Women's Ministry,Young Adult Ministry,Small Groups
ORGANIZER;CN="Rob Curington":MAILTO:rob@orangevilla.org
END:VEVENT
BEGIN:VEVENT
DTSTART;TZID=UTC:20180920T190000
DTEND;TZID=UTC:20180920T203000
DTSTAMP:20260421T113405
CREATED:20180110T214733Z
LAST-MODIFIED:20180110T215238Z
UID:8156-1537470000-1537475400@orangevilla.org
SUMMARY:Small Groups
DESCRIPTION:Each Thursday we gather into “small groups” for a time of bible study and fellowship. If you are interested in joining a life group\, please contact the church office at (714) 637-3250. \nMen’s Group: Meet in Pastors Office \nWomen’s Group: Meet in Room 202 \nSpanish-speaking: Meet in Room 208 \nYoung Marrieds: Meet at members homes (rotating)
URL:https://orangevilla.org/event/small-groups-2-2018-09-20/
CATEGORIES:Men's Ministry,Women's Ministry,Young Adult Ministry,Small Groups
ORGANIZER;CN="Rob Curington":MAILTO:rob@orangevilla.org
END:VEVENT
BEGIN:VEVENT
DTSTART;TZID=UTC:20180913T190000
DTEND;TZID=UTC:20180913T203000
DTSTAMP:20260421T113405
CREATED:20180110T214733Z
LAST-MODIFIED:20180110T215238Z
UID:8154-1536865200-1536870600@orangevilla.org
SUMMARY:Small Groups
DESCRIPTION:Each Thursday we gather into “small groups” for a time of bible study and fellowship. If you are interested in joining a life group\, please contact the church office at (714) 637-3250. \nMen’s Group: Meet in Pastors Office \nWomen’s Group: Meet in Room 202 \nSpanish-speaking: Meet in Room 208 \nYoung Marrieds: Meet at members homes (rotating)
URL:https://orangevilla.org/event/small-groups-2/
CATEGORIES:Men's Ministry,Women's Ministry,Young Adult Ministry,Small Groups
ORGANIZER;CN="Rob Curington":MAILTO:rob@orangevilla.org
END:VEVENT
END:VCALENDAR