BEGIN:VCALENDAR
VERSION:2.0
PRODID:-//Orange Villa Bible Church - ECPv6.15.17.1//NONSGML v1.0//EN
CALSCALE:GREGORIAN
METHOD:PUBLISH
X-ORIGINAL-URL:https://orangevilla.org
X-WR-CALDESC:Events for Orange Villa Bible Church
REFRESH-INTERVAL;VALUE=DURATION:PT1H
X-Robots-Tag:noindex
X-PUBLISHED-TTL:PT1H
BEGIN:VTIMEZONE
TZID:UTC
BEGIN:STANDARD
TZOFFSETFROM:+0000
TZOFFSETTO:+0000
TZNAME:UTC
DTSTART:20170101T000000
END:STANDARD
END:VTIMEZONE
BEGIN:VEVENT
DTSTART;TZID=UTC:20181230T094500
DTEND;TZID=UTC:20181230T103000
DTSTAMP:20260419T195741
CREATED:20180110T203140Z
LAST-MODIFIED:20180406T211209Z
UID:8061-1546163100-1546165800@orangevilla.org
SUMMARY:Adult Core Classes
DESCRIPTION:Before our main service each Sunday\, our Adult Core Class meets to dive into a deeper study on varying topics. Join us in Room 208 each week. \nCurrent Session: \nRoots III: Standing on the shoulders of giants  \n \nVisit our “What to Expect” page for more details on our Sunday services.
URL:https://orangevilla.org/event/adult-core-classes-2018-12-30/
LOCATION:Orange Villa Bible Church\, 1820 E Meats Ave \, Orange\, CA\, 92865\, United States
CATEGORIES:Small Groups,Sunday Service
ORGANIZER;CN="Dustin Saunders":MAILTO:dustin@orangevilla.org
END:VEVENT
BEGIN:VEVENT
DTSTART;TZID=UTC:20181216T094500
DTEND;TZID=UTC:20181216T103000
DTSTAMP:20260419T195741
CREATED:20180110T203140Z
LAST-MODIFIED:20180406T211208Z
UID:8060-1544953500-1544956200@orangevilla.org
SUMMARY:Adult Core Classes
DESCRIPTION:Before our main service each Sunday\, our Adult Core Class meets to dive into a deeper study on varying topics. Join us in Room 208 each week. \nCurrent Session: \nRoots III: Standing on the shoulders of giants  \n \nVisit our “What to Expect” page for more details on our Sunday services.
URL:https://orangevilla.org/event/adult-core-classes-2018-12-16/
LOCATION:Orange Villa Bible Church\, 1820 E Meats Ave \, Orange\, CA\, 92865\, United States
CATEGORIES:Small Groups,Sunday Service
ORGANIZER;CN="Dustin Saunders":MAILTO:dustin@orangevilla.org
END:VEVENT
BEGIN:VEVENT
DTSTART;TZID=UTC:20181209T094500
DTEND;TZID=UTC:20181209T103000
DTSTAMP:20260419T195741
CREATED:20180110T203140Z
LAST-MODIFIED:20180406T211208Z
UID:8059-1544348700-1544351400@orangevilla.org
SUMMARY:Adult Core Classes
DESCRIPTION:Before our main service each Sunday\, our Adult Core Class meets to dive into a deeper study on varying topics. Join us in Room 208 each week. \nCurrent Session: \nRoots III: Standing on the shoulders of giants  \n \nVisit our “What to Expect” page for more details on our Sunday services.
URL:https://orangevilla.org/event/adult-core-classes-2018-12-09/
LOCATION:Orange Villa Bible Church\, 1820 E Meats Ave \, Orange\, CA\, 92865\, United States
CATEGORIES:Small Groups,Sunday Service
ORGANIZER;CN="Dustin Saunders":MAILTO:dustin@orangevilla.org
END:VEVENT
BEGIN:VEVENT
DTSTART;TZID=UTC:20181202T094500
DTEND;TZID=UTC:20181202T103000
DTSTAMP:20260419T195741
CREATED:20180110T203140Z
LAST-MODIFIED:20180406T211208Z
UID:8058-1543743900-1543746600@orangevilla.org
SUMMARY:Adult Core Classes
DESCRIPTION:Before our main service each Sunday\, our Adult Core Class meets to dive into a deeper study on varying topics. Join us in Room 208 each week. \nCurrent Session: \nRoots III: Standing on the shoulders of giants  \n \nVisit our “What to Expect” page for more details on our Sunday services.
URL:https://orangevilla.org/event/adult-core-classes-2018-12-02/
LOCATION:Orange Villa Bible Church\, 1820 E Meats Ave \, Orange\, CA\, 92865\, United States
CATEGORIES:Small Groups,Sunday Service
ORGANIZER;CN="Dustin Saunders":MAILTO:dustin@orangevilla.org
END:VEVENT
BEGIN:VEVENT
DTSTART;TZID=UTC:20181125T094500
DTEND;TZID=UTC:20181125T103000
DTSTAMP:20260419T195741
CREATED:20180110T203140Z
LAST-MODIFIED:20180406T211208Z
UID:8057-1543139100-1543141800@orangevilla.org
SUMMARY:Adult Core Classes
DESCRIPTION:Before our main service each Sunday\, our Adult Core Class meets to dive into a deeper study on varying topics. Join us in Room 208 each week. \nCurrent Session: \nRoots III: Standing on the shoulders of giants  \n \nVisit our “What to Expect” page for more details on our Sunday services.
URL:https://orangevilla.org/event/adult-core-classes-2018-11-25/
LOCATION:Orange Villa Bible Church\, 1820 E Meats Ave \, Orange\, CA\, 92865\, United States
CATEGORIES:Small Groups,Sunday Service
ORGANIZER;CN="Dustin Saunders":MAILTO:dustin@orangevilla.org
END:VEVENT
BEGIN:VEVENT
DTSTART;TZID=UTC:20181118T094500
DTEND;TZID=UTC:20181118T103000
DTSTAMP:20260419T195741
CREATED:20180110T203140Z
LAST-MODIFIED:20180406T211208Z
UID:8056-1542534300-1542537000@orangevilla.org
SUMMARY:Adult Core Classes
DESCRIPTION:Before our main service each Sunday\, our Adult Core Class meets to dive into a deeper study on varying topics. Join us in Room 208 each week. \nCurrent Session: \nRoots III: Standing on the shoulders of giants  \n \nVisit our “What to Expect” page for more details on our Sunday services.
URL:https://orangevilla.org/event/adult-core-classes-2018-11-18/
LOCATION:Orange Villa Bible Church\, 1820 E Meats Ave \, Orange\, CA\, 92865\, United States
CATEGORIES:Small Groups,Sunday Service
ORGANIZER;CN="Dustin Saunders":MAILTO:dustin@orangevilla.org
END:VEVENT
BEGIN:VEVENT
DTSTART;TZID=UTC:20181111T094500
DTEND;TZID=UTC:20181111T103000
DTSTAMP:20260419T195741
CREATED:20180110T203140Z
LAST-MODIFIED:20180406T211206Z
UID:8055-1541929500-1541932200@orangevilla.org
SUMMARY:Adult Core Classes
DESCRIPTION:Before our main service each Sunday\, our Adult Core Class meets to dive into a deeper study on varying topics. Join us in Room 208 each week. \nCurrent Session: \nRoots III: Standing on the shoulders of giants  \n \nVisit our “What to Expect” page for more details on our Sunday services.
URL:https://orangevilla.org/event/adult-core-classes-2018-11-11/
LOCATION:Orange Villa Bible Church\, 1820 E Meats Ave \, Orange\, CA\, 92865\, United States
CATEGORIES:Small Groups,Sunday Service
ORGANIZER;CN="Dustin Saunders":MAILTO:dustin@orangevilla.org
END:VEVENT
BEGIN:VEVENT
DTSTART;TZID=UTC:20181104T094500
DTEND;TZID=UTC:20181104T103000
DTSTAMP:20260419T195741
CREATED:20180110T203140Z
LAST-MODIFIED:20180406T211206Z
UID:8054-1541324700-1541327400@orangevilla.org
SUMMARY:Adult Core Classes
DESCRIPTION:Before our main service each Sunday\, our Adult Core Class meets to dive into a deeper study on varying topics. Join us in Room 208 each week. \nCurrent Session: \nRoots III: Standing on the shoulders of giants  \n \nVisit our “What to Expect” page for more details on our Sunday services.
URL:https://orangevilla.org/event/adult-core-classes-2018-11-04/
LOCATION:Orange Villa Bible Church\, 1820 E Meats Ave \, Orange\, CA\, 92865\, United States
CATEGORIES:Small Groups,Sunday Service
ORGANIZER;CN="Dustin Saunders":MAILTO:dustin@orangevilla.org
END:VEVENT
BEGIN:VEVENT
DTSTART;TZID=UTC:20181028T094500
DTEND;TZID=UTC:20181028T103000
DTSTAMP:20260419T195741
CREATED:20180110T203140Z
LAST-MODIFIED:20180406T211206Z
UID:8053-1540719900-1540722600@orangevilla.org
SUMMARY:Adult Core Classes
DESCRIPTION:Before our main service each Sunday\, our Adult Core Class meets to dive into a deeper study on varying topics. Join us in Room 208 each week. \nCurrent Session: \nRoots III: Standing on the shoulders of giants  \n \nVisit our “What to Expect” page for more details on our Sunday services.
URL:https://orangevilla.org/event/adult-core-classes-2018-10-28/
LOCATION:Orange Villa Bible Church\, 1820 E Meats Ave \, Orange\, CA\, 92865\, United States
CATEGORIES:Small Groups,Sunday Service
ORGANIZER;CN="Dustin Saunders":MAILTO:dustin@orangevilla.org
END:VEVENT
BEGIN:VEVENT
DTSTART;TZID=UTC:20181021T094500
DTEND;TZID=UTC:20181021T103000
DTSTAMP:20260419T195741
CREATED:20180110T203140Z
LAST-MODIFIED:20180406T211206Z
UID:8052-1540115100-1540117800@orangevilla.org
SUMMARY:Adult Core Classes
DESCRIPTION:Before our main service each Sunday\, our Adult Core Class meets to dive into a deeper study on varying topics. Join us in Room 208 each week. \nCurrent Session: \nRoots III: Standing on the shoulders of giants  \n \nVisit our “What to Expect” page for more details on our Sunday services.
URL:https://orangevilla.org/event/adult-core-classes-2018-10-21/
LOCATION:Orange Villa Bible Church\, 1820 E Meats Ave \, Orange\, CA\, 92865\, United States
CATEGORIES:Small Groups,Sunday Service
ORGANIZER;CN="Dustin Saunders":MAILTO:dustin@orangevilla.org
END:VEVENT
BEGIN:VEVENT
DTSTART;TZID=UTC:20181014T094500
DTEND;TZID=UTC:20181014T103000
DTSTAMP:20260419T195741
CREATED:20180110T203140Z
LAST-MODIFIED:20180406T211205Z
UID:8051-1539510300-1539513000@orangevilla.org
SUMMARY:Adult Core Classes
DESCRIPTION:Before our main service each Sunday\, our Adult Core Class meets to dive into a deeper study on varying topics. Join us in Room 208 each week. \nCurrent Session: \nRoots III: Standing on the shoulders of giants  \n \nVisit our “What to Expect” page for more details on our Sunday services.
URL:https://orangevilla.org/event/adult-core-classes-2018-10-14/
LOCATION:Orange Villa Bible Church\, 1820 E Meats Ave \, Orange\, CA\, 92865\, United States
CATEGORIES:Small Groups,Sunday Service
ORGANIZER;CN="Dustin Saunders":MAILTO:dustin@orangevilla.org
END:VEVENT
BEGIN:VEVENT
DTSTART;TZID=UTC:20181007T094500
DTEND;TZID=UTC:20181007T103000
DTSTAMP:20260419T195741
CREATED:20180110T203140Z
LAST-MODIFIED:20180406T211205Z
UID:8050-1538905500-1538908200@orangevilla.org
SUMMARY:Adult Core Classes
DESCRIPTION:Before our main service each Sunday\, our Adult Core Class meets to dive into a deeper study on varying topics. Join us in Room 208 each week. \nCurrent Session: \nRoots III: Standing on the shoulders of giants  \n \nVisit our “What to Expect” page for more details on our Sunday services.
URL:https://orangevilla.org/event/adult-core-classes-2018-10-07/
LOCATION:Orange Villa Bible Church\, 1820 E Meats Ave \, Orange\, CA\, 92865\, United States
CATEGORIES:Small Groups,Sunday Service
ORGANIZER;CN="Dustin Saunders":MAILTO:dustin@orangevilla.org
END:VEVENT
BEGIN:VEVENT
DTSTART;TZID=UTC:20180930T094500
DTEND;TZID=UTC:20180930T103000
DTSTAMP:20260419T195741
CREATED:20180110T203140Z
LAST-MODIFIED:20180406T211205Z
UID:8049-1538300700-1538303400@orangevilla.org
SUMMARY:Adult Core Classes
DESCRIPTION:Before our main service each Sunday\, our Adult Core Class meets to dive into a deeper study on varying topics. Join us in Room 208 each week. \nCurrent Session: \nRoots III: Standing on the shoulders of giants  \n \nVisit our “What to Expect” page for more details on our Sunday services.
URL:https://orangevilla.org/event/adult-core-classes-2018-09-30/
LOCATION:Orange Villa Bible Church\, 1820 E Meats Ave \, Orange\, CA\, 92865\, United States
CATEGORIES:Small Groups,Sunday Service
ORGANIZER;CN="Dustin Saunders":MAILTO:dustin@orangevilla.org
END:VEVENT
BEGIN:VEVENT
DTSTART;TZID=UTC:20180923T094500
DTEND;TZID=UTC:20180923T103000
DTSTAMP:20260419T195741
CREATED:20180110T203140Z
LAST-MODIFIED:20180406T211205Z
UID:8048-1537695900-1537698600@orangevilla.org
SUMMARY:Adult Core Classes
DESCRIPTION:Before our main service each Sunday\, our Adult Core Class meets to dive into a deeper study on varying topics. Join us in Room 208 each week. \nCurrent Session: \nRoots III: Standing on the shoulders of giants  \n \nVisit our “What to Expect” page for more details on our Sunday services.
URL:https://orangevilla.org/event/adult-core-classes-2018-09-23/
LOCATION:Orange Villa Bible Church\, 1820 E Meats Ave \, Orange\, CA\, 92865\, United States
CATEGORIES:Small Groups,Sunday Service
ORGANIZER;CN="Dustin Saunders":MAILTO:dustin@orangevilla.org
END:VEVENT
BEGIN:VEVENT
DTSTART;TZID=UTC:20180916T094500
DTEND;TZID=UTC:20180916T103000
DTSTAMP:20260419T195741
CREATED:20180110T203140Z
LAST-MODIFIED:20180406T211205Z
UID:8047-1537091100-1537093800@orangevilla.org
SUMMARY:Adult Core Classes
DESCRIPTION:Before our main service each Sunday\, our Adult Core Class meets to dive into a deeper study on varying topics. Join us in Room 208 each week. \nCurrent Session: \nRoots III: Standing on the shoulders of giants  \n \nVisit our “What to Expect” page for more details on our Sunday services.
URL:https://orangevilla.org/event/adult-core-classes-2018-09-16/
LOCATION:Orange Villa Bible Church\, 1820 E Meats Ave \, Orange\, CA\, 92865\, United States
CATEGORIES:Small Groups,Sunday Service
ORGANIZER;CN="Dustin Saunders":MAILTO:dustin@orangevilla.org
END:VEVENT
BEGIN:VEVENT
DTSTART;TZID=UTC:20180909T094500
DTEND;TZID=UTC:20180909T103000
DTSTAMP:20260419T195741
CREATED:20180110T203140Z
LAST-MODIFIED:20180406T211205Z
UID:8046-1536486300-1536489000@orangevilla.org
SUMMARY:Adult Core Classes
DESCRIPTION:Before our main service each Sunday\, our Adult Core Class meets to dive into a deeper study on varying topics. Join us in Room 208 each week. \nCurrent Session: \nRoots III: Standing on the shoulders of giants  \n \nVisit our “What to Expect” page for more details on our Sunday services.
URL:https://orangevilla.org/event/adult-core-classes-2018-09-09/
LOCATION:Orange Villa Bible Church\, 1820 E Meats Ave \, Orange\, CA\, 92865\, United States
CATEGORIES:Small Groups,Sunday Service
ORGANIZER;CN="Dustin Saunders":MAILTO:dustin@orangevilla.org
END:VEVENT
BEGIN:VEVENT
DTSTART;TZID=UTC:20180826T094500
DTEND;TZID=UTC:20180826T103000
DTSTAMP:20260419T195741
CREATED:20180110T203140Z
LAST-MODIFIED:20180406T211203Z
UID:8045-1535276700-1535279400@orangevilla.org
SUMMARY:Adult Core Classes
DESCRIPTION:Before our main service each Sunday\, our Adult Core Class meets to dive into a deeper study on varying topics. Join us in Room 208 each week. \nCurrent Session: \nRoots III: Standing on the shoulders of giants  \n \nVisit our “What to Expect” page for more details on our Sunday services.
URL:https://orangevilla.org/event/adult-core-classes-2018-08-26/
LOCATION:Orange Villa Bible Church\, 1820 E Meats Ave \, Orange\, CA\, 92865\, United States
CATEGORIES:Small Groups,Sunday Service
ORGANIZER;CN="Dustin Saunders":MAILTO:dustin@orangevilla.org
END:VEVENT
BEGIN:VEVENT
DTSTART;TZID=UTC:20180819T094500
DTEND;TZID=UTC:20180819T103000
DTSTAMP:20260419T195741
CREATED:20180110T203140Z
LAST-MODIFIED:20180406T211203Z
UID:8044-1534671900-1534674600@orangevilla.org
SUMMARY:Adult Core Classes
DESCRIPTION:Before our main service each Sunday\, our Adult Core Class meets to dive into a deeper study on varying topics. Join us in Room 208 each week. \nCurrent Session: \nRoots III: Standing on the shoulders of giants  \n \nVisit our “What to Expect” page for more details on our Sunday services.
URL:https://orangevilla.org/event/adult-core-classes-2018-08-19/
LOCATION:Orange Villa Bible Church\, 1820 E Meats Ave \, Orange\, CA\, 92865\, United States
CATEGORIES:Small Groups,Sunday Service
ORGANIZER;CN="Dustin Saunders":MAILTO:dustin@orangevilla.org
END:VEVENT
BEGIN:VEVENT
DTSTART;TZID=UTC:20180812T094500
DTEND;TZID=UTC:20180812T103000
DTSTAMP:20260419T195741
CREATED:20180110T203140Z
LAST-MODIFIED:20180406T211203Z
UID:8043-1534067100-1534069800@orangevilla.org
SUMMARY:Adult Core Classes
DESCRIPTION:Before our main service each Sunday\, our Adult Core Class meets to dive into a deeper study on varying topics. Join us in Room 208 each week. \nCurrent Session: \nRoots III: Standing on the shoulders of giants  \n \nVisit our “What to Expect” page for more details on our Sunday services.
URL:https://orangevilla.org/event/adult-core-classes-2018-08-12/
LOCATION:Orange Villa Bible Church\, 1820 E Meats Ave \, Orange\, CA\, 92865\, United States
CATEGORIES:Small Groups,Sunday Service
ORGANIZER;CN="Dustin Saunders":MAILTO:dustin@orangevilla.org
END:VEVENT
BEGIN:VEVENT
DTSTART;TZID=UTC:20180805T094500
DTEND;TZID=UTC:20180805T103000
DTSTAMP:20260419T195741
CREATED:20180110T203140Z
LAST-MODIFIED:20180406T211202Z
UID:8042-1533462300-1533465000@orangevilla.org
SUMMARY:Adult Core Classes
DESCRIPTION:Before our main service each Sunday\, our Adult Core Class meets to dive into a deeper study on varying topics. Join us in Room 208 each week. \nCurrent Session: \nRoots III: Standing on the shoulders of giants  \n \nVisit our “What to Expect” page for more details on our Sunday services.
URL:https://orangevilla.org/event/adult-core-classes-2018-08-05/
LOCATION:Orange Villa Bible Church\, 1820 E Meats Ave \, Orange\, CA\, 92865\, United States
CATEGORIES:Small Groups,Sunday Service
ORGANIZER;CN="Dustin Saunders":MAILTO:dustin@orangevilla.org
END:VEVENT
BEGIN:VEVENT
DTSTART;TZID=UTC:20180729T094500
DTEND;TZID=UTC:20180729T103000
DTSTAMP:20260419T195741
CREATED:20180110T203140Z
LAST-MODIFIED:20180406T211202Z
UID:8041-1532857500-1532860200@orangevilla.org
SUMMARY:Adult Core Classes
DESCRIPTION:Before our main service each Sunday\, our Adult Core Class meets to dive into a deeper study on varying topics. Join us in Room 208 each week. \nCurrent Session: \nRoots III: Standing on the shoulders of giants  \n \nVisit our “What to Expect” page for more details on our Sunday services.
URL:https://orangevilla.org/event/adult-core-classes-2018-07-29/
LOCATION:Orange Villa Bible Church\, 1820 E Meats Ave \, Orange\, CA\, 92865\, United States
CATEGORIES:Small Groups,Sunday Service
ORGANIZER;CN="Dustin Saunders":MAILTO:dustin@orangevilla.org
END:VEVENT
BEGIN:VEVENT
DTSTART;TZID=UTC:20180722T094500
DTEND;TZID=UTC:20180722T103000
DTSTAMP:20260419T195741
CREATED:20180110T203140Z
LAST-MODIFIED:20180406T211202Z
UID:8040-1532252700-1532255400@orangevilla.org
SUMMARY:Adult Core Classes
DESCRIPTION:Before our main service each Sunday\, our Adult Core Class meets to dive into a deeper study on varying topics. Join us in Room 208 each week. \nCurrent Session: \nRoots III: Standing on the shoulders of giants  \n \nVisit our “What to Expect” page for more details on our Sunday services.
URL:https://orangevilla.org/event/adult-core-classes-2018-07-22/
LOCATION:Orange Villa Bible Church\, 1820 E Meats Ave \, Orange\, CA\, 92865\, United States
CATEGORIES:Small Groups,Sunday Service
ORGANIZER;CN="Dustin Saunders":MAILTO:dustin@orangevilla.org
END:VEVENT
BEGIN:VEVENT
DTSTART;TZID=UTC:20180715T094500
DTEND;TZID=UTC:20180715T103000
DTSTAMP:20260419T195741
CREATED:20180110T203140Z
LAST-MODIFIED:20180406T211202Z
UID:8039-1531647900-1531650600@orangevilla.org
SUMMARY:Adult Core Classes
DESCRIPTION:Before our main service each Sunday\, our Adult Core Class meets to dive into a deeper study on varying topics. Join us in Room 208 each week. \nCurrent Session: \nRoots III: Standing on the shoulders of giants  \n \nVisit our “What to Expect” page for more details on our Sunday services.
URL:https://orangevilla.org/event/adult-core-classes-2018-07-15/
LOCATION:Orange Villa Bible Church\, 1820 E Meats Ave \, Orange\, CA\, 92865\, United States
CATEGORIES:Small Groups,Sunday Service
ORGANIZER;CN="Dustin Saunders":MAILTO:dustin@orangevilla.org
END:VEVENT
BEGIN:VEVENT
DTSTART;TZID=UTC:20180708T094500
DTEND;TZID=UTC:20180708T103000
DTSTAMP:20260419T195741
CREATED:20180110T203140Z
LAST-MODIFIED:20180406T211202Z
UID:8038-1531043100-1531045800@orangevilla.org
SUMMARY:Adult Core Classes
DESCRIPTION:Before our main service each Sunday\, our Adult Core Class meets to dive into a deeper study on varying topics. Join us in Room 208 each week. \nCurrent Session: \nRoots III: Standing on the shoulders of giants  \n \nVisit our “What to Expect” page for more details on our Sunday services.
URL:https://orangevilla.org/event/adult-core-classes-2018-07-08/
LOCATION:Orange Villa Bible Church\, 1820 E Meats Ave \, Orange\, CA\, 92865\, United States
CATEGORIES:Small Groups,Sunday Service
ORGANIZER;CN="Dustin Saunders":MAILTO:dustin@orangevilla.org
END:VEVENT
BEGIN:VEVENT
DTSTART;TZID=UTC:20180701T094500
DTEND;TZID=UTC:20180701T103000
DTSTAMP:20260419T195741
CREATED:20180110T203140Z
LAST-MODIFIED:20180406T211202Z
UID:8037-1530438300-1530441000@orangevilla.org
SUMMARY:Adult Core Classes
DESCRIPTION:Before our main service each Sunday\, our Adult Core Class meets to dive into a deeper study on varying topics. Join us in Room 208 each week. \nCurrent Session: \nRoots III: Standing on the shoulders of giants  \n \nVisit our “What to Expect” page for more details on our Sunday services.
URL:https://orangevilla.org/event/adult-core-classes-2018-07-01/
LOCATION:Orange Villa Bible Church\, 1820 E Meats Ave \, Orange\, CA\, 92865\, United States
CATEGORIES:Small Groups,Sunday Service
ORGANIZER;CN="Dustin Saunders":MAILTO:dustin@orangevilla.org
END:VEVENT
BEGIN:VEVENT
DTSTART;TZID=UTC:20180624T094500
DTEND;TZID=UTC:20180624T103000
DTSTAMP:20260419T195741
CREATED:20180110T203140Z
LAST-MODIFIED:20180406T211202Z
UID:8036-1529833500-1529836200@orangevilla.org
SUMMARY:Adult Core Classes
DESCRIPTION:Before our main service each Sunday\, our Adult Core Class meets to dive into a deeper study on varying topics. Join us in Room 208 each week. \nCurrent Session: \nRoots III: Standing on the shoulders of giants  \n \nVisit our “What to Expect” page for more details on our Sunday services.
URL:https://orangevilla.org/event/adult-core-classes-2018-06-24/
LOCATION:Orange Villa Bible Church\, 1820 E Meats Ave \, Orange\, CA\, 92865\, United States
CATEGORIES:Small Groups,Sunday Service
ORGANIZER;CN="Dustin Saunders":MAILTO:dustin@orangevilla.org
END:VEVENT
BEGIN:VEVENT
DTSTART;TZID=UTC:20180610T094500
DTEND;TZID=UTC:20180610T103000
DTSTAMP:20260419T195741
CREATED:20180110T203140Z
LAST-MODIFIED:20180406T211159Z
UID:8035-1528623900-1528626600@orangevilla.org
SUMMARY:Adult Core Classes
DESCRIPTION:Before our main service each Sunday\, our Adult Core Class meets to dive into a deeper study on varying topics. Join us in Room 208 each week. \nCurrent Session: \nRoots III: Standing on the shoulders of giants  \n \nVisit our “What to Expect” page for more details on our Sunday services.
URL:https://orangevilla.org/event/adult-core-classes-2018-06-10/
LOCATION:Orange Villa Bible Church\, 1820 E Meats Ave \, Orange\, CA\, 92865\, United States
CATEGORIES:Small Groups,Sunday Service
ORGANIZER;CN="Dustin Saunders":MAILTO:dustin@orangevilla.org
END:VEVENT
BEGIN:VEVENT
DTSTART;TZID=UTC:20180603T094500
DTEND;TZID=UTC:20180603T103000
DTSTAMP:20260419T195741
CREATED:20180110T203140Z
LAST-MODIFIED:20180406T211158Z
UID:8034-1528019100-1528021800@orangevilla.org
SUMMARY:Adult Core Classes
DESCRIPTION:Before our main service each Sunday\, our Adult Core Class meets to dive into a deeper study on varying topics. Join us in Room 208 each week. \nCurrent Session: \nRoots III: Standing on the shoulders of giants  \n \nVisit our “What to Expect” page for more details on our Sunday services.
URL:https://orangevilla.org/event/adult-core-classes-2018-06-03/
LOCATION:Orange Villa Bible Church\, 1820 E Meats Ave \, Orange\, CA\, 92865\, United States
CATEGORIES:Small Groups,Sunday Service
ORGANIZER;CN="Dustin Saunders":MAILTO:dustin@orangevilla.org
END:VEVENT
BEGIN:VEVENT
DTSTART;TZID=UTC:20180527T094500
DTEND;TZID=UTC:20180527T103000
DTSTAMP:20260419T195741
CREATED:20180110T203140Z
LAST-MODIFIED:20180406T211158Z
UID:8033-1527414300-1527417000@orangevilla.org
SUMMARY:Adult Core Classes
DESCRIPTION:Before our main service each Sunday\, our Adult Core Class meets to dive into a deeper study on varying topics. Join us in Room 208 each week. \nCurrent Session: \nRoots III: Standing on the shoulders of giants  \n \nVisit our “What to Expect” page for more details on our Sunday services.
URL:https://orangevilla.org/event/adult-core-classes-2018-05-27/
LOCATION:Orange Villa Bible Church\, 1820 E Meats Ave \, Orange\, CA\, 92865\, United States
CATEGORIES:Small Groups,Sunday Service
ORGANIZER;CN="Dustin Saunders":MAILTO:dustin@orangevilla.org
END:VEVENT
BEGIN:VEVENT
DTSTART;TZID=UTC:20180520T094500
DTEND;TZID=UTC:20180520T103000
DTSTAMP:20260419T195741
CREATED:20180110T203140Z
LAST-MODIFIED:20180406T211158Z
UID:8032-1526809500-1526812200@orangevilla.org
SUMMARY:Adult Core Classes
DESCRIPTION:Before our main service each Sunday\, our Adult Core Class meets to dive into a deeper study on varying topics. Join us in Room 208 each week. \nCurrent Session: \nRoots III: Standing on the shoulders of giants  \n \nVisit our “What to Expect” page for more details on our Sunday services.
URL:https://orangevilla.org/event/adult-core-classes-2018-05-20/
LOCATION:Orange Villa Bible Church\, 1820 E Meats Ave \, Orange\, CA\, 92865\, United States
CATEGORIES:Small Groups,Sunday Service
ORGANIZER;CN="Dustin Saunders":MAILTO:dustin@orangevilla.org
END:VEVENT
END:VCALENDAR