BEGIN:VCALENDAR
VERSION:2.0
PRODID:-//Orange Villa Bible Church - ECPv6.15.17.1//NONSGML v1.0//EN
CALSCALE:GREGORIAN
METHOD:PUBLISH
X-WR-CALNAME:Orange Villa Bible Church
X-ORIGINAL-URL:https://orangevilla.org
X-WR-CALDESC:Events for Orange Villa Bible Church
REFRESH-INTERVAL;VALUE=DURATION:PT1H
X-Robots-Tag:noindex
X-PUBLISHED-TTL:PT1H
BEGIN:VTIMEZONE
TZID:UTC
BEGIN:STANDARD
TZOFFSETFROM:+0000
TZOFFSETTO:+0000
TZNAME:UTC
DTSTART:20150101T000000
END:STANDARD
END:VTIMEZONE
BEGIN:VEVENT
DTSTART;TZID=UTC:20180218T094500
DTEND;TZID=UTC:20180218T103000
DTSTAMP:20260420T021651
CREATED:20180110T203140Z
LAST-MODIFIED:20180406T211149Z
UID:8020-1518947100-1518949800@orangevilla.org
SUMMARY:Adult Core Classes
DESCRIPTION:Before our main service each Sunday\, our Adult Core Class meets to dive into a deeper study on varying topics. Join us in Room 208 each week. \nCurrent Session: \nRoots III: Standing on the shoulders of giants  \n \nVisit our “What to Expect” page for more details on our Sunday services.
URL:https://orangevilla.org/event/adult-core-classes-2018-02-18/
LOCATION:Orange Villa Bible Church\, 1820 E Meats Ave \, Orange\, CA\, 92865\, United States
CATEGORIES:Small Groups,Sunday Service
ORGANIZER;CN="Dustin Saunders":MAILTO:dustin@orangevilla.org
END:VEVENT
BEGIN:VEVENT
DTSTART;TZID=UTC:20180211T094500
DTEND;TZID=UTC:20180211T103000
DTSTAMP:20260420T021651
CREATED:20180110T203140Z
LAST-MODIFIED:20180406T211149Z
UID:8019-1518342300-1518345000@orangevilla.org
SUMMARY:Adult Core Classes
DESCRIPTION:Before our main service each Sunday\, our Adult Core Class meets to dive into a deeper study on varying topics. Join us in Room 208 each week. \nCurrent Session: \nRoots III: Standing on the shoulders of giants  \n \nVisit our “What to Expect” page for more details on our Sunday services.
URL:https://orangevilla.org/event/adult-core-classes-2018-02-11/
LOCATION:Orange Villa Bible Church\, 1820 E Meats Ave \, Orange\, CA\, 92865\, United States
CATEGORIES:Small Groups,Sunday Service
ORGANIZER;CN="Dustin Saunders":MAILTO:dustin@orangevilla.org
END:VEVENT
BEGIN:VEVENT
DTSTART;TZID=UTC:20180204T094500
DTEND;TZID=UTC:20180204T103000
DTSTAMP:20260420T021651
CREATED:20180110T203140Z
LAST-MODIFIED:20180406T211149Z
UID:8018-1517737500-1517740200@orangevilla.org
SUMMARY:Adult Core Classes
DESCRIPTION:Before our main service each Sunday\, our Adult Core Class meets to dive into a deeper study on varying topics. Join us in Room 208 each week. \nCurrent Session: \nRoots III: Standing on the shoulders of giants  \n \nVisit our “What to Expect” page for more details on our Sunday services.
URL:https://orangevilla.org/event/adult-core-classes-2018-02-04/
LOCATION:Orange Villa Bible Church\, 1820 E Meats Ave \, Orange\, CA\, 92865\, United States
CATEGORIES:Small Groups,Sunday Service
ORGANIZER;CN="Dustin Saunders":MAILTO:dustin@orangevilla.org
END:VEVENT
BEGIN:VEVENT
DTSTART;TZID=UTC:20180128T094500
DTEND;TZID=UTC:20180128T103000
DTSTAMP:20260420T021651
CREATED:20180110T203140Z
LAST-MODIFIED:20180406T211148Z
UID:8017-1517132700-1517135400@orangevilla.org
SUMMARY:Adult Core Classes
DESCRIPTION:Before our main service each Sunday\, our Adult Core Class meets to dive into a deeper study on varying topics. Join us in Room 208 each week. \nCurrent Session: \nRoots III: Standing on the shoulders of giants  \n \nVisit our “What to Expect” page for more details on our Sunday services.
URL:https://orangevilla.org/event/adult-core-classes-2018-01-28/
LOCATION:Orange Villa Bible Church\, 1820 E Meats Ave \, Orange\, CA\, 92865\, United States
CATEGORIES:Small Groups,Sunday Service
ORGANIZER;CN="Dustin Saunders":MAILTO:dustin@orangevilla.org
END:VEVENT
BEGIN:VEVENT
DTSTART;TZID=UTC:20180121T094500
DTEND;TZID=UTC:20180121T103000
DTSTAMP:20260420T021651
CREATED:20180110T203140Z
LAST-MODIFIED:20180406T211148Z
UID:8016-1516527900-1516530600@orangevilla.org
SUMMARY:Adult Core Classes
DESCRIPTION:Before our main service each Sunday\, our Adult Core Class meets to dive into a deeper study on varying topics. Join us in Room 208 each week. \nCurrent Session: \nRoots III: Standing on the shoulders of giants  \n \nVisit our “What to Expect” page for more details on our Sunday services.
URL:https://orangevilla.org/event/adult-core-classes-2018-01-21/
LOCATION:Orange Villa Bible Church\, 1820 E Meats Ave \, Orange\, CA\, 92865\, United States
CATEGORIES:Small Groups,Sunday Service
ORGANIZER;CN="Dustin Saunders":MAILTO:dustin@orangevilla.org
END:VEVENT
BEGIN:VEVENT
DTSTART;TZID=UTC:20180114T094500
DTEND;TZID=UTC:20180114T103000
DTSTAMP:20260420T021651
CREATED:20180110T203140Z
LAST-MODIFIED:20180406T211148Z
UID:8015-1515923100-1515925800@orangevilla.org
SUMMARY:Adult Core Classes
DESCRIPTION:Before our main service each Sunday\, our Adult Core Class meets to dive into a deeper study on varying topics. Join us in Room 208 each week. \nCurrent Session: \nRoots III: Standing on the shoulders of giants  \n \nVisit our “What to Expect” page for more details on our Sunday services.
URL:https://orangevilla.org/event/adult-core-classes-2018-01-14/
LOCATION:Orange Villa Bible Church\, 1820 E Meats Ave \, Orange\, CA\, 92865\, United States
CATEGORIES:Small Groups,Sunday Service
ORGANIZER;CN="Dustin Saunders":MAILTO:dustin@orangevilla.org
END:VEVENT
BEGIN:VEVENT
DTSTART;TZID=UTC:20180107T094500
DTEND;TZID=UTC:20180107T103000
DTSTAMP:20260420T021651
CREATED:20180110T203140Z
LAST-MODIFIED:20180406T211147Z
UID:8012-1515318300-1515321000@orangevilla.org
SUMMARY:Adult Core Classes
DESCRIPTION:Before our main service each Sunday\, our Adult Core Class meets to dive into a deeper study on varying topics. Join us in Room 208 each week. \nCurrent Session: \nRoots III: Standing on the shoulders of giants  \n \nVisit our “What to Expect” page for more details on our Sunday services.
URL:https://orangevilla.org/event/adult-core-classes/
LOCATION:Orange Villa Bible Church\, 1820 E Meats Ave \, Orange\, CA\, 92865\, United States
CATEGORIES:Small Groups,Sunday Service
ORGANIZER;CN="Dustin Saunders":MAILTO:dustin@orangevilla.org
END:VEVENT
BEGIN:VEVENT
DTSTART;TZID=UTC:20170416T104000
DTEND;TZID=UTC:20170416T120000
DTSTAMP:20260420T021651
CREATED:20160921T175057Z
LAST-MODIFIED:20170411T181351Z
UID:4965-1492339200-1492344000@orangevilla.org
SUMMARY:Easter Sunday\, 10:40am
DESCRIPTION:Join us for Resurrection Sunday as we celebrate our Lord and Savior\, Jesus Christ. He is Risen!\n\nVisit our “What to Expect” page for more details on our service.
URL:https://orangevilla.org/event/sunday-worship-service-3-2-3-3-4-2017-04-16/
LOCATION:Orange Villa Bible Church\, 1820 E Meats Ave \, Orange\, CA\, 92865\, United States
CATEGORIES:Sunday Service
ATTACH;FMTTYPE=image/jpeg:https://orangevilla.org/wp-content/uploads/2013/04/easter.jpg
END:VEVENT
BEGIN:VEVENT
DTSTART;TZID=UTC:20160911T104000
DTEND;TZID=UTC:20160911T120000
DTSTAMP:20260420T021651
CREATED:20160921T173842Z
LAST-MODIFIED:20160921T182843Z
UID:4630-1473590400-1473595200@orangevilla.org
SUMMARY:Sunday Worship Service\, 10:40am
DESCRIPTION:Join us each Sunday at 10:40am for a chance to worship our God as a church family. \nVisit our “What to Expect” page for more details on our service.
URL:https://orangevilla.org/event/sunday-worship-service-3-2-3-3/
LOCATION:CA
CATEGORIES:Sunday Service
END:VEVENT
BEGIN:VEVENT
DTSTART;TZID=UTC:20160911T094500
DTEND;TZID=UTC:20160911T223000
DTSTAMP:20260420T021651
CREATED:20160921T173739Z
LAST-MODIFIED:20160921T182815Z
UID:4631-1473587100-1473633000@orangevilla.org
SUMMARY:Adult Core Classes
DESCRIPTION:Before our main service each Sunday\, our Adult Core Class meets to dive into a deeper study on varying topics. Join us in Room 208 each week. \nCurrent Session: “Roots: Walking Through the History of our Faith”\n \n \nVisit our “What to Expect” page for more details on our Sunday services.
URL:https://orangevilla.org/event/sunday-worship-service-3-2-3-2-3-11/
LOCATION:CA
CATEGORIES:Sunday Service
END:VEVENT
BEGIN:VEVENT
DTSTART;TZID=UTC:20160828T104000
DTEND;TZID=UTC:20160828T120000
DTSTAMP:20260420T021651
CREATED:20160614T190224Z
LAST-MODIFIED:20160914T180400Z
UID:4516-1472380800-1472385600@orangevilla.org
SUMMARY:Sunday Worship Service\, 10:40am
DESCRIPTION:Join us each Sunday at 10:40am for a chance to worship our God as a church family. \nVisit our “What to Expect” page for more details on our service.
URL:https://orangevilla.org/event/sunday-worship-service-3-2-3/
LOCATION:CA
CATEGORIES:Sunday Service
END:VEVENT
END:VCALENDAR